BEGIN:VCALENDAR
VERSION:2.0
PRODID:-//hacksw/handcal//NONSGML v1.0//EN
BEGIN:VEVENT
DTSTAMP:20250528T170000Z
DTSTART:20250528T170000Z
DTEND:20250528T170000Z
LOCATION:Schützenhalle Oberkirchen, Deutschland
SUMMARY:28.05.: Wahlkampfauftakt mit Walter Mennekes
END:VEVENT
END:VCALENDAR
