BEGIN:VCALENDAR
VERSION:2.0
PRODID:-//hacksw/handcal//NONSGML v1.0//EN
BEGIN:VEVENT
DTSTAMP:20250615T120000Z
DTSTART:20250615T120000Z
DTEND:20250615T120000Z
LOCATION:Heute Mühle, Schmallenberg, Schmallenberg, 57392, Deutschland
SUMMARY:15.06.: Ein Tag für die Familie – Die CDU lädt ein!
END:VEVENT
END:VCALENDAR
