BEGIN:VCALENDAR
VERSION:2.0
PRODID:-//hacksw/handcal//NONSGML v1.0//EN
BEGIN:VEVENT
DTSTAMP:20250715T163000Z
DTSTART:20250715T163000Z
DTEND:20250715T163000Z
LOCATION:Wiesner Fensterbau GmbH & Co. KG im Gewerbepark Hochsauerland, Buchenweg 3 , 57392 Schmallenberg, Deutschland
SUMMARY:15.07.: After Work mit Wolfgang Bosbach
END:VEVENT
END:VCALENDAR
