BEGIN:VCALENDAR
VERSION:2.0
PRODID:-//hacksw/handcal//NONSGML v1.0//EN
BEGIN:VEVENT
DTSTAMP:20250623T170000Z
DTSTART:20250623T170000Z
DTEND:20250623T170000Z
LOCATION:Heumes Scheune, Schmallenberg-Arpe, 57392, Deutschland
SUMMARY:23.06.: Gesundheitsminister Laumann zur Zukunft d. medizinischen Versorgung
END:VEVENT
END:VCALENDAR
