BEGIN:VCALENDAR
VERSION:2.0
PRODID:-//hacksw/handcal//NONSGML v1.0//EN
BEGIN:VEVENT
DTSTAMP:20250806T170000Z
DTSTART:20250806T170000Z
DTEND:20250806T170000Z
LOCATION:Fleckenberg, Schützenplatz, Deutschland
SUMMARY:06.08.:Politischer Tagesausklang in Fleckenberg
END:VEVENT
END:VCALENDAR
