BEGIN:VCALENDAR
VERSION:2.0
PRODID:-//hacksw/handcal//NONSGML v1.0//EN
BEGIN:VEVENT
DTSTAMP:20250809T110000Z
DTSTART:20250809T110000Z
DTEND:20250809T110000Z
LOCATION:Kichspiel Bödefeld, Deutschland
SUMMARY:09.08.: Dörfertour der CDU Bödefeld Freiheit & Land mit Johannes Trippe
END:VEVENT
END:VCALENDAR
