BEGIN:VCALENDAR
VERSION:2.0
PRODID:-//hacksw/handcal//NONSGML v1.0//EN
BEGIN:VEVENT
DTSTAMP:20250825T173000Z
DTSTART:20250825T173000Z
DTEND:20250825T173000Z
LOCATION:Stadthalle Schmallenberg, Deutschland
SUMMARY:Abgesagt: 25.08.: Veranstaltung mit Dr. Carsten Linnemann zu Gast
END:VEVENT
END:VCALENDAR
