BEGIN:VCALENDAR
VERSION:2.0
PRODID:-//hacksw/handcal//NONSGML v1.0//EN
BEGIN:VEVENT
DTSTAMP:20250821T170000Z
DTSTART:20250821T170000Z
DTEND:20250821T170000Z
LOCATION:Dorlar, Schützenplatz, Deutschland
SUMMARY:21.08.: Auf ein Bier mit der CDU in Dorlar
END:VEVENT
END:VCALENDAR
