BEGIN:VCALENDAR
VERSION:2.0
PRODID:-//hacksw/handcal//NONSGML v1.0//EN
BEGIN:VEVENT
DTSTAMP:20250826T163000Z
DTSTART:20250826T163000Z
DTEND:20250826T163000Z
LOCATION:Lenne, St. Vincentius-Begegnungsstätte neben der Pfarrkirche, Deutschland
SUMMARY:26.08.: Auf ein Bier mit der CDU in Lenne
END:VEVENT
END:VCALENDAR
