BEGIN:VCALENDAR
VERSION:2.0
PRODID:-//hacksw/handcal//NONSGML v1.0//EN
BEGIN:VEVENT
DTSTAMP:20250822T170000Z
DTSTART:20250822T170000Z
DTEND:20250822T170000Z
LOCATION:Bracht, Schützenhalle, Deutschland
SUMMARY:22.08.: Auf ein Bier mit der CDU in Bracht
END:VEVENT
END:VCALENDAR
