BEGIN:VCALENDAR
VERSION:2.0
PRODID:-//hacksw/handcal//NONSGML v1.0//EN
BEGIN:VEVENT
DTSTAMP:20250820T170000Z
DTSTART:20250820T170000Z
DTEND:20250820T170000Z
LOCATION:Dorfplatz Wormbach, Deutschland
SUMMARY:20.08.: Auf ein Bier mit der CDU in Wormbach
END:VEVENT
END:VCALENDAR
