BEGIN:VCALENDAR
VERSION:2.0
PRODID:-//hacksw/handcal//NONSGML v1.0//EN
BEGIN:VEVENT
DTSTAMP:20250818T170000Z
DTSTART:20250818T170000Z
DTEND:20250818T170000Z
LOCATION:Schieferbergbau- und Heimatmuseum Holthausen, Deutschland
SUMMARY:18.08.: Auf ein Bier mit der CDU in Holthausen
END:VEVENT
END:VCALENDAR
