BEGIN:VCALENDAR
VERSION:2.0
PRODID:-//hacksw/handcal//NONSGML v1.0//EN
BEGIN:VEVENT
DTSTAMP:20250819T170000Z
DTSTART:20250819T170000Z
DTEND:20250819T170000Z
LOCATION:Gasthof Siepe, Obersorpe, Deutschland
SUMMARY:19.08.: Auf ein Bier mit der CDU in Obersorpe
END:VEVENT
END:VCALENDAR
