BEGIN:VCALENDAR
VERSION:2.0
PRODID:-//hacksw/handcal//NONSGML v1.0//EN
BEGIN:VEVENT
DTSTAMP:20250823T170000Z
DTSTART:20250823T170000Z
DTEND:20250823T170000Z
LOCATION:Hotel Schütte, Oberkirchen, Deutschland
SUMMARY:23.08.: Dämmerschoppen mit der CDU in Oberkirchen
END:VEVENT
END:VCALENDAR
