BEGIN:VCALENDAR
VERSION:2.0
PRODID:-//hacksw/handcal//NONSGML v1.0//EN
BEGIN:VEVENT
DTSTAMP:20250906T080000Z
DTSTART:20250906T080000Z
DTEND:20250906T080000Z
LOCATION:Schmallenberg Schützenplatz, Deutschland
SUMMARY:06.09.: Herzliche Einladung auf eine Bratwurst am Schützenplatz
END:VEVENT
END:VCALENDAR
