BEGIN:VCALENDAR
VERSION:2.0
PRODID:-//hacksw/handcal//NONSGML v1.0//EN
BEGIN:VEVENT
DTSTAMP:20250901T170000Z
DTSTART:20250901T170000Z
DTEND:20250901T170000Z
LOCATION:Dorfhaus Huxel, Deutschland
SUMMARY:01.09.: Dämmerschoppen mit Johannes Trippe und Andreas Schulte
END:VEVENT
END:VCALENDAR
