BEGIN:VCALENDAR
VERSION:2.0
PRODID:-//hacksw/handcal//NONSGML v1.0//EN
BEGIN:VEVENT
DTSTAMP:20250902T180000Z
DTSTART:20250902T180000Z
DTEND:20250902T180000Z
LOCATION:Gasthof Wulbeck, Niedersorpe, Deutschland
SUMMARY:02.09. Dämmerschoppen mit Johannes Trippe und Andreas Schulte 
END:VEVENT
END:VCALENDAR
