BEGIN:VCALENDAR
VERSION:2.0
PRODID:-//hacksw/handcal//NONSGML v1.0//EN
BEGIN:VEVENT
DTSTAMP:20250902T160000Z
DTSTART:20250902T160000Z
DTEND:20250902T160000Z
LOCATION:Sportpark Bödefeld, Deutschland
SUMMARY:02.09. Jugend trifft Poltik - Talk mit Johannes Trippe
END:VEVENT
END:VCALENDAR
